BEGIN:VCALENDAR
VERSION:2.0
PRODID:-//Living Water Christian Preparatory School - ECPv6.15.15//NONSGML v1.0//EN
CALSCALE:GREGORIAN
METHOD:PUBLISH
X-WR-CALNAME:Living Water Christian Preparatory School
X-ORIGINAL-URL:https://livingwaterschristianschool.com
X-WR-CALDESC:Events for Living Water Christian Preparatory School
REFRESH-INTERVAL;VALUE=DURATION:PT1H
X-Robots-Tag:noindex
X-PUBLISHED-TTL:PT1H
BEGIN:VTIMEZONE
TZID:UTC
BEGIN:STANDARD
TZOFFSETFROM:+0000
TZOFFSETTO:+0000
TZNAME:UTC
DTSTART:20230101T000000
END:STANDARD
END:VTIMEZONE
BEGIN:VEVENT
DTSTART;VALUE=DATE:20240509
DTEND;VALUE=DATE:20240510
DTSTAMP:20260422T104746
CREATED:20230704T204106Z
LAST-MODIFIED:20230704T204106Z
UID:745-1715212800-1715299199@livingwaterschristianschool.com
SUMMARY:Teacher Workday
DESCRIPTION:
URL:https://livingwaterschristianschool.com/event/teacher-workday-7/
CATEGORIES:Calender
END:VEVENT
BEGIN:VEVENT
DTSTART;TZID=UTC:20240524T080000
DTEND;TZID=UTC:20240524T113000
DTSTAMP:20260422T104746
CREATED:20230704T194859Z
LAST-MODIFIED:20230704T194859Z
UID:689-1716537600-1716550200@livingwaterschristianschool.com
SUMMARY:Early Release-Last day of school
DESCRIPTION:
URL:https://livingwaterschristianschool.com/event/early-release-last-day-of-school/
CATEGORIES:Calender
END:VEVENT
END:VCALENDAR