BEGIN:VCALENDAR
VERSION:2.0
PRODID:-//Living Water Christian Preparatory School - ECPv6.15.15//NONSGML v1.0//EN
CALSCALE:GREGORIAN
METHOD:PUBLISH
X-ORIGINAL-URL:https://livingwaterschristianschool.com
X-WR-CALDESC:Events for Living Water Christian Preparatory School
REFRESH-INTERVAL;VALUE=DURATION:PT1H
X-Robots-Tag:noindex
X-PUBLISHED-TTL:PT1H
BEGIN:VTIMEZONE
TZID:UTC
BEGIN:STANDARD
TZOFFSETFROM:+0000
TZOFFSETTO:+0000
TZNAME:UTC
DTSTART:20230101T000000
END:STANDARD
END:VTIMEZONE
BEGIN:VEVENT
DTSTART;VALUE=DATE:20240209
DTEND;VALUE=DATE:20240210
DTSTAMP:20260422T155510
CREATED:20230704T203553Z
LAST-MODIFIED:20230704T203553Z
UID:739-1707436800-1707523199@livingwaterschristianschool.com
SUMMARY:Progress Report
DESCRIPTION:
URL:https://livingwaterschristianschool.com/event/progress-report-3/
CATEGORIES:Calender
END:VEVENT
BEGIN:VEVENT
DTSTART;TZID=UTC:20240214T080000
DTEND;TZID=UTC:20240214T113000
DTSTAMP:20260422T155510
CREATED:20230704T203723Z
LAST-MODIFIED:20230704T203723Z
UID:741-1707897600-1707910200@livingwaterschristianschool.com
SUMMARY:Early Release
DESCRIPTION:
URL:https://livingwaterschristianschool.com/event/early-release-4/
CATEGORIES:Calender
END:VEVENT
BEGIN:VEVENT
DTSTART;VALUE=DATE:20240216
DTEND;VALUE=DATE:20240217
DTSTAMP:20260422T155510
CREATED:20230704T195438Z
LAST-MODIFIED:20230704T195649Z
UID:691-1708041600-1708127999@livingwaterschristianschool.com
SUMMARY:Teacher Workday
DESCRIPTION:
URL:https://livingwaterschristianschool.com/event/teacher-workday-3/
CATEGORIES:Calender
END:VEVENT
BEGIN:VEVENT
DTSTART;VALUE=DATE:20240219
DTEND;VALUE=DATE:20240220
DTSTAMP:20260422T155510
CREATED:20230704T203758Z
LAST-MODIFIED:20230704T203758Z
UID:743-1708300800-1708387199@livingwaterschristianschool.com
SUMMARY:Holiday
DESCRIPTION:
URL:https://livingwaterschristianschool.com/event/holiday-10/
CATEGORIES:Calender
END:VEVENT
END:VCALENDAR