BEGIN:VCALENDAR
VERSION:2.0
PRODID:-//Living Water Christian Preparatory School - ECPv6.15.15//NONSGML v1.0//EN
CALSCALE:GREGORIAN
METHOD:PUBLISH
X-ORIGINAL-URL:https://livingwaterschristianschool.com
X-WR-CALDESC:Events for Living Water Christian Preparatory School
REFRESH-INTERVAL;VALUE=DURATION:PT1H
X-Robots-Tag:noindex
X-PUBLISHED-TTL:PT1H
BEGIN:VTIMEZONE
TZID:UTC
BEGIN:STANDARD
TZOFFSETFROM:+0000
TZOFFSETTO:+0000
TZNAME:UTC
DTSTART:20230101T000000
END:STANDARD
END:VTIMEZONE
BEGIN:VEVENT
DTSTART;VALUE=DATE:20240101
DTEND;VALUE=DATE:20240103
DTSTAMP:20260422T173754
CREATED:20230704T202942Z
LAST-MODIFIED:20230704T202942Z
UID:727-1704067200-1704239999@livingwaterschristianschool.com
SUMMARY:Holiday
DESCRIPTION:
URL:https://livingwaterschristianschool.com/event/holiday-8/
CATEGORIES:Calender
END:VEVENT
BEGIN:VEVENT
DTSTART;VALUE=DATE:20240103
DTEND;VALUE=DATE:20240104
DTSTAMP:20260422T173754
CREATED:20230704T203036Z
LAST-MODIFIED:20230704T203036Z
UID:729-1704240000-1704326399@livingwaterschristianschool.com
SUMMARY:Teacher Workday
DESCRIPTION:
URL:https://livingwaterschristianschool.com/event/teacher-workday-6/
CATEGORIES:Calender
END:VEVENT
BEGIN:VEVENT
DTSTART;VALUE=DATE:20240111
DTEND;VALUE=DATE:20240112
DTSTAMP:20260422T173754
CREATED:20230704T203221Z
LAST-MODIFIED:20230704T203221Z
UID:731-1704931200-1705017599@livingwaterschristianschool.com
SUMMARY:End 2nd Quarter
DESCRIPTION:
URL:https://livingwaterschristianschool.com/event/end-2nd-quarter/
CATEGORIES:Calender
END:VEVENT
BEGIN:VEVENT
DTSTART;VALUE=DATE:20240116
DTEND;VALUE=DATE:20240117
DTSTAMP:20260422T173754
CREATED:20230704T203258Z
LAST-MODIFIED:20230704T203258Z
UID:733-1705363200-1705449599@livingwaterschristianschool.com
SUMMARY:Holiday
DESCRIPTION:
URL:https://livingwaterschristianschool.com/event/holiday-9/
CATEGORIES:Calender
END:VEVENT
BEGIN:VEVENT
DTSTART;TZID=UTC:20240119T080000
DTEND;TZID=UTC:20240119T170000
DTSTAMP:20260422T173754
CREATED:20230704T203348Z
LAST-MODIFIED:20230704T203348Z
UID:735-1705651200-1705683600@livingwaterschristianschool.com
SUMMARY:Report Cards distributed
DESCRIPTION:
URL:https://livingwaterschristianschool.com/event/report-cards-distributed-2/
CATEGORIES:Calender
END:VEVENT
BEGIN:VEVENT
DTSTART;TZID=UTC:20240124T080000
DTEND;TZID=UTC:20240124T113000
DTSTAMP:20260422T173754
CREATED:20230704T203451Z
LAST-MODIFIED:20230704T203451Z
UID:737-1706083200-1706095800@livingwaterschristianschool.com
SUMMARY:Early Release
DESCRIPTION:
URL:https://livingwaterschristianschool.com/event/early-release-3/
CATEGORIES:Calender
END:VEVENT
END:VCALENDAR