BEGIN:VCALENDAR
VERSION:2.0
PRODID:-//Living Water Christian Preparatory School - ECPv6.15.15//NONSGML v1.0//EN
CALSCALE:GREGORIAN
METHOD:PUBLISH
X-ORIGINAL-URL:https://livingwaterschristianschool.com
X-WR-CALDESC:Events for Living Water Christian Preparatory School
REFRESH-INTERVAL;VALUE=DURATION:PT1H
X-Robots-Tag:noindex
X-PUBLISHED-TTL:PT1H
BEGIN:VTIMEZONE
TZID:UTC
BEGIN:STANDARD
TZOFFSETFROM:+0000
TZOFFSETTO:+0000
TZNAME:UTC
DTSTART:20220101T000000
END:STANDARD
END:VTIMEZONE
BEGIN:VEVENT
DTSTART;VALUE=DATE:20231110
DTEND;VALUE=DATE:20231111
DTSTAMP:20260422T204813
CREATED:20230704T202447Z
LAST-MODIFIED:20230704T202447Z
UID:717-1699574400-1699660799@livingwaterschristianschool.com
SUMMARY:Holiday
DESCRIPTION:
URL:https://livingwaterschristianschool.com/event/holiday-5/
CATEGORIES:Calender
END:VEVENT
BEGIN:VEVENT
DTSTART;VALUE=DATE:20231122
DTEND;VALUE=DATE:20231125
DTSTAMP:20260422T204813
CREATED:20230704T202536Z
LAST-MODIFIED:20230704T202536Z
UID:719-1700611200-1700870399@livingwaterschristianschool.com
SUMMARY:Holiday
DESCRIPTION:
URL:https://livingwaterschristianschool.com/event/holiday-6/
CATEGORIES:Calender
END:VEVENT
BEGIN:VEVENT
DTSTART;VALUE=DATE:20231127
DTEND;VALUE=DATE:20231128
DTSTAMP:20260422T204813
CREATED:20230704T202625Z
LAST-MODIFIED:20230704T202625Z
UID:721-1701043200-1701129599@livingwaterschristianschool.com
SUMMARY:Progress Report
DESCRIPTION:
URL:https://livingwaterschristianschool.com/event/progress-report-2/
CATEGORIES:Calender
END:VEVENT
END:VCALENDAR