BEGIN:VCALENDAR
VERSION:2.0
PRODID:-//Living Water Christian Preparatory School - ECPv6.15.15//NONSGML v1.0//EN
CALSCALE:GREGORIAN
METHOD:PUBLISH
X-ORIGINAL-URL:https://livingwaterschristianschool.com
X-WR-CALDESC:Events for Living Water Christian Preparatory School
REFRESH-INTERVAL;VALUE=DURATION:PT1H
X-Robots-Tag:noindex
X-PUBLISHED-TTL:PT1H
BEGIN:VTIMEZONE
TZID:UTC
BEGIN:STANDARD
TZOFFSETFROM:+0000
TZOFFSETTO:+0000
TZNAME:UTC
DTSTART:20220101T000000
END:STANDARD
END:VTIMEZONE
BEGIN:VEVENT
DTSTART;TZID=UTC:20230817T170000
DTEND;TZID=UTC:20230817T183000
DTSTAMP:20260423T015108
CREATED:20230704T195847Z
LAST-MODIFIED:20230704T195847Z
UID:693-1692291600-1692297000@livingwaterschristianschool.com
SUMMARY:Open house
DESCRIPTION:
URL:https://livingwaterschristianschool.com/event/open-house/
CATEGORIES:Calender
END:VEVENT
BEGIN:VEVENT
DTSTART;VALUE=DATE:20230821
DTEND;VALUE=DATE:20230822
DTSTAMP:20260423T015108
CREATED:20230704T175847Z
LAST-MODIFIED:20230704T175847Z
UID:685-1692576000-1692662399@livingwaterschristianschool.com
SUMMARY:1st day of school
DESCRIPTION:
URL:https://livingwaterschristianschool.com/event/1st-day-of-school/
CATEGORIES:Calender
END:VEVENT
END:VCALENDAR