BEGIN:VCALENDAR
VERSION:2.0
PRODID:-//Living Water Christian Preparatory School - ECPv6.15.15//NONSGML v1.0//EN
CALSCALE:GREGORIAN
METHOD:PUBLISH
X-WR-CALNAME:Living Water Christian Preparatory School
X-ORIGINAL-URL:https://livingwaterschristianschool.com
X-WR-CALDESC:Events for Living Water Christian Preparatory School
REFRESH-INTERVAL;VALUE=DURATION:PT1H
X-Robots-Tag:noindex
X-PUBLISHED-TTL:PT1H
BEGIN:VTIMEZONE
TZID:UTC
BEGIN:STANDARD
TZOFFSETFROM:+0000
TZOFFSETTO:+0000
TZNAME:UTC
DTSTART:20220101T000000
END:STANDARD
END:VTIMEZONE
BEGIN:VEVENT
DTSTART;TZID=UTC:20230406T080000
DTEND;TZID=UTC:20230406T170000
DTSTAMP:20260423T083043
CREATED:20230315T225209Z
LAST-MODIFIED:20230315T225209Z
UID:643-1680768000-1680800400@livingwaterschristianschool.com
SUMMARY:Report Cards
DESCRIPTION:
URL:https://livingwaterschristianschool.com/event/report-cards/
END:VEVENT
BEGIN:VEVENT
DTSTART;TZID=UTC:20230407T080000
DTEND;TZID=UTC:20230407T170000
DTSTAMP:20260423T083043
CREATED:20230315T225248Z
LAST-MODIFIED:20230315T225439Z
UID:645-1680854400-1680886800@livingwaterschristianschool.com
SUMMARY:Good Friday
DESCRIPTION:School will be Closed
URL:https://livingwaterschristianschool.com/event/good-friday/
END:VEVENT
BEGIN:VEVENT
DTSTART;TZID=UTC:20230410T080000
DTEND;TZID=UTC:20230414T170000
DTSTAMP:20260423T083043
CREATED:20230315T225403Z
LAST-MODIFIED:20230315T225403Z
UID:647-1681113600-1681491600@livingwaterschristianschool.com
SUMMARY:Spring Break
DESCRIPTION:No School
URL:https://livingwaterschristianschool.com/event/spring-break/
END:VEVENT
END:VCALENDAR